BEGIN:VCALENDAR
VERSION:2.0
PRODID:icalendar-ruby
CALSCALE:GREGORIAN
METHOD:PUBLISH
BEGIN:VEVENT
DTSTAMP:20260424T163601Z
UID:74-594385@providencepca.org
DTSTART:20261004T153000Z
DTEND:20261004T170000Z
CLASS:PUBLIC
CREATED:20260424T113345
DESCRIPTION:Please join us for the weekly corporate worship together at Pro
 vidence PCA. We seek to honor and worship the Lord in this time with one a
 nother through prayer\, songs\, the preaching of the Gospel and communion.
  We look forward to you joining us!
LAST-MODIFIED:20260424T113345
LOCATION:Providence Sanctuary 
SUMMARY:Sunday Worship
URL;VALUE=URI:https://www.providencepca.org/events/sunday-worship/2026-10-0
 4
END:VEVENT
END:VCALENDAR
