BEGIN:VCALENDAR
VERSION:2.0
PRODID:icalendar-ruby
CALSCALE:GREGORIAN
METHOD:PUBLISH
BEGIN:VEVENT
DTSTAMP:20260424T121147Z
UID:74-593568@providencepca.org
DTSTART:20260913T153000Z
DTEND:20260913T170000Z
CLASS:PUBLIC
CREATED:20260424T054838
DESCRIPTION:Please join us for the weekly corporate worship together at Pro
 vidence PCA. We seek to honor and worship the Lord in this time with one a
 nother through prayer\, songs\, the preaching of the Gospel and communion.
  We look forward to you joining us!
LAST-MODIFIED:20260424T054838
LOCATION:Providence Sanctuary 
SUMMARY:Sunday Worship
URL;VALUE=URI:https://www.providencepca.org/events/sunday-worship/2026-09-1
 3
END:VEVENT
END:VCALENDAR
