BEGIN:VCALENDAR
VERSION:2.0
PRODID:icalendar-ruby
CALSCALE:GREGORIAN
METHOD:PUBLISH
BEGIN:VEVENT
DTSTAMP:20260421T034409Z
UID:85-586030@providencepca.org
DTSTART:20261006T113000Z
DTEND:20261006T123000Z
CLASS:PUBLIC
CREATED:20260420T183714
DESCRIPTION:Men of Providence - please join us each Tuesday morning at 6:30
  in the Fellowship Hall to discuss particular passages of study and pray f
 or one another. 
LAST-MODIFIED:20260420T183714
LOCATION:Fellowship Hall
SUMMARY:Men's Morning Group
URL;VALUE=URI:https://www.providencepca.org/events/mens-morning-group/2026-
 10-06
ATTACH;FILENAME=MvnX.jpg;FMTTYPE=image/jpeg:https://dq5pwpg1q8ru0.cloudfron
 t.net/2023/01/06/15/52/26/e7108177-248c-46bf-be89-36345225459e/MvnX.jpg
END:VEVENT
END:VCALENDAR
